BEGIN:VCALENDAR
VERSION:2.0
PRODID:-//IP.Board Calendar 4.6.8//EN
METHOD:PUBLISH
CALSCALE:GREGORIAN
X-WR-CALNAME:Community Calendar
BEGIN:VTIMEZONE
TZID:Europe/London
TZURL:http://tzurl.org/zoneinfo/Europe/London
X-LIC-LOCATION:Europe/London
BEGIN:DAYLIGHT
TZOFFSETFROM:+0000
TZOFFSETTO:+0100
TZNAME:BST
DTSTART:20220327T020000Z
RRULE:FREQ=YEARLY;BYMONTH=3;BYDAY=-1SU
END:DAYLIGHT
BEGIN:STANDARD
TZOFFSETFROM:+0100
TZOFFSETTO:+0000
TZNAME:GMT
DTSTART:20221030T020000Z
RRULE:FREQ=YEARLY;BYMONTH=10;BYDAY=-1SU
END:STANDARD
END:VTIMEZONE
BEGIN:VEVENT
SUMMARY:День Рождения Елизаветы Валер
	ьевны Родионовой
DTSTAMP:20220727T135450Z
SEQUENCE:0
UID:184-1-527b1ff7dedd74be0ae7b395e7d48a9f@sociologyofreligion.ru
ORGANIZER;CN="Serjio":admin@sociologyofreligion.ru
DESCRIPTION:\n	Уважаемая и до
	рогая Елизавета В
	алерьевна!\n\n\n\n
		Примите наши
	 поздравления 
	с Вашим Днём Ро
	ждения!  Желае
	м Вам и Вашим бл
	изким добра в
	о всём\, радости от достигнуто
	го и красоты в каждом мгновении!\n\n\n
DTSTART;VALUE=DATE:20220727
END:VEVENT
END:VCALENDAR
